BEGIN:VCALENDAR
VERSION:2.0
PRODID:-//The Crooked Mouth Pub - ECPv6.15.20//NONSGML v1.0//EN
CALSCALE:GREGORIAN
METHOD:PUBLISH
X-WR-CALNAME:The Crooked Mouth Pub
X-ORIGINAL-URL:https://thecrookedmouth.ca
X-WR-CALDESC:Events for The Crooked Mouth Pub
REFRESH-INTERVAL;VALUE=DURATION:PT1H
X-Robots-Tag:noindex
X-PUBLISHED-TTL:PT1H
BEGIN:VTIMEZONE
TZID:America/Edmonton
BEGIN:DAYLIGHT
TZOFFSETFROM:-0700
TZOFFSETTO:-0600
TZNAME:MDT
DTSTART:20240310T090000
END:DAYLIGHT
BEGIN:STANDARD
TZOFFSETFROM:-0600
TZOFFSETTO:-0700
TZNAME:MST
DTSTART:20241103T080000
END:STANDARD
BEGIN:DAYLIGHT
TZOFFSETFROM:-0700
TZOFFSETTO:-0600
TZNAME:MDT
DTSTART:20250309T090000
END:DAYLIGHT
BEGIN:STANDARD
TZOFFSETFROM:-0600
TZOFFSETTO:-0700
TZNAME:MST
DTSTART:20251102T080000
END:STANDARD
BEGIN:DAYLIGHT
TZOFFSETFROM:-0700
TZOFFSETTO:-0600
TZNAME:MDT
DTSTART:20260308T090000
END:DAYLIGHT
BEGIN:STANDARD
TZOFFSETFROM:-0600
TZOFFSETTO:-0700
TZNAME:MST
DTSTART:20261101T080000
END:STANDARD
END:VTIMEZONE
BEGIN:VEVENT
DTSTART;TZID=America/Edmonton:20251118T190000
DTEND;TZID=America/Edmonton:20251118T210000
DTSTAMP:20260421T144946
CREATED:20251111T164531Z
LAST-MODIFIED:20251111T164531Z
UID:1053-1763492400-1763499600@thecrookedmouth.ca
SUMMARY:Music Poker
DESCRIPTION:The Crooked Mouth Pub presents Music Poker every Tuesday at 7:00 PM\, with vibes brought to you by Advanced Entertainment! 🎶🃏 \nNo poker skills? No problem! Just listen for the songs\, mark your sheet\, and be the first to complete a full line. Each line is a poker hand\, and the highest hand snags a prize! \nZero entry fee. All ages welcome. Come for the tunes\, the laughs\, and the chance to win some rad prizes.
URL:https://thecrookedmouth.ca/event/music-poker-3/
END:VEVENT
END:VCALENDAR