BEGIN:VCALENDAR
VERSION:2.0
PRODID:-//The Crooked Mouth Pub - ECPv6.15.20//NONSGML v1.0//EN
CALSCALE:GREGORIAN
METHOD:PUBLISH
X-WR-CALNAME:The Crooked Mouth Pub
X-ORIGINAL-URL:https://thecrookedmouth.ca
X-WR-CALDESC:Events for The Crooked Mouth Pub
REFRESH-INTERVAL;VALUE=DURATION:PT1H
X-Robots-Tag:noindex
X-PUBLISHED-TTL:PT1H
BEGIN:VTIMEZONE
TZID:America/Edmonton
BEGIN:DAYLIGHT
TZOFFSETFROM:-0700
TZOFFSETTO:-0600
TZNAME:MDT
DTSTART:20240310T090000
END:DAYLIGHT
BEGIN:STANDARD
TZOFFSETFROM:-0600
TZOFFSETTO:-0700
TZNAME:MST
DTSTART:20241103T080000
END:STANDARD
BEGIN:DAYLIGHT
TZOFFSETFROM:-0700
TZOFFSETTO:-0600
TZNAME:MDT
DTSTART:20250309T090000
END:DAYLIGHT
BEGIN:STANDARD
TZOFFSETFROM:-0600
TZOFFSETTO:-0700
TZNAME:MST
DTSTART:20251102T080000
END:STANDARD
BEGIN:DAYLIGHT
TZOFFSETFROM:-0700
TZOFFSETTO:-0600
TZNAME:MDT
DTSTART:20260308T090000
END:DAYLIGHT
BEGIN:STANDARD
TZOFFSETFROM:-0600
TZOFFSETTO:-0700
TZNAME:MST
DTSTART:20261101T080000
END:STANDARD
END:VTIMEZONE
BEGIN:VEVENT
DTSTART;TZID=America/Edmonton:20251127T203000
DTEND;TZID=America/Edmonton:20251127T220000
DTSTAMP:20260421T144713
CREATED:20251111T165538Z
LAST-MODIFIED:20251111T165538Z
UID:1071-1764275400-1764280800@thecrookedmouth.ca
SUMMARY:Quiz Night
DESCRIPTION:The Crooked Mouth Pub proudly presents Sherwood Park’s Original Quiz Night every Thursday at 8:30 PM! \nPut your trivia skills to the test with 30 challenging questions from our Quiz Master of the week\, all competing for the pot and bragging rights! \nEntry is $2 per player. The winning team takes 50% of the pot\, while the other 50% is raffled off along with some awesome prizes. \nBe part of the tradition\, make memories\, and play to win every Thursday. Ready to take the challenge?
URL:https://thecrookedmouth.ca/event/quiz-night-5/
END:VEVENT
END:VCALENDAR