BEGIN:VCALENDAR
VERSION:2.0
PRODID:-//The Crooked Mouth Pub - ECPv6.15.20//NONSGML v1.0//EN
CALSCALE:GREGORIAN
METHOD:PUBLISH
X-WR-CALNAME:The Crooked Mouth Pub
X-ORIGINAL-URL:https://thecrookedmouth.ca
X-WR-CALDESC:Events for The Crooked Mouth Pub
REFRESH-INTERVAL;VALUE=DURATION:PT1H
X-Robots-Tag:noindex
X-PUBLISHED-TTL:PT1H
BEGIN:VTIMEZONE
TZID:America/Edmonton
BEGIN:DAYLIGHT
TZOFFSETFROM:-0700
TZOFFSETTO:-0600
TZNAME:MDT
DTSTART:20250309T090000
END:DAYLIGHT
BEGIN:STANDARD
TZOFFSETFROM:-0600
TZOFFSETTO:-0700
TZNAME:MST
DTSTART:20251102T080000
END:STANDARD
BEGIN:DAYLIGHT
TZOFFSETFROM:-0700
TZOFFSETTO:-0600
TZNAME:MDT
DTSTART:20260308T090000
END:DAYLIGHT
BEGIN:STANDARD
TZOFFSETFROM:-0600
TZOFFSETTO:-0700
TZNAME:MST
DTSTART:20261101T080000
END:STANDARD
BEGIN:DAYLIGHT
TZOFFSETFROM:-0700
TZOFFSETTO:-0600
TZNAME:MDT
DTSTART:20270314T090000
END:DAYLIGHT
BEGIN:STANDARD
TZOFFSETFROM:-0600
TZOFFSETTO:-0700
TZNAME:MST
DTSTART:20271107T080000
END:STANDARD
END:VTIMEZONE
BEGIN:VEVENT
DTSTART;TZID=America/Edmonton:20260207T190000
DTEND;TZID=America/Edmonton:20260207T233000
DTSTAMP:20260422T163726
CREATED:20260107T165925Z
LAST-MODIFIED:20260107T165925Z
UID:1185-1770490800-1770507000@thecrookedmouth.ca
SUMMARY:Ben Williams
DESCRIPTION:The Crooked Mouth Pub presents: Benjamin Williams on Saturday\, February 7th starting at 7:00pm.
URL:https://thecrookedmouth.ca/event/ben-williams-6/
END:VEVENT
BEGIN:VEVENT
DTSTART;TZID=America/Edmonton:20260213T200000
DTEND;TZID=America/Edmonton:20260213T233000
DTSTAMP:20260422T163726
CREATED:20260107T170005Z
LAST-MODIFIED:20260107T170005Z
UID:1187-1771012800-1771025400@thecrookedmouth.ca
SUMMARY:Eric Martin
DESCRIPTION:The Crooked Mouth Pub presents: Eric Martin on Friday\, February 13th starting at 8:00pm.
URL:https://thecrookedmouth.ca/event/eric-martin-3/
END:VEVENT
BEGIN:VEVENT
DTSTART;TZID=America/Edmonton:20260214T190000
DTEND;TZID=America/Edmonton:20260214T233000
DTSTAMP:20260422T163726
CREATED:20260107T170050Z
LAST-MODIFIED:20260107T170050Z
UID:1189-1771095600-1771111800@thecrookedmouth.ca
SUMMARY:Two Laine Hiway
DESCRIPTION:The Crooked Mouth Pub presents: Two Laine Hiway on Saturday\, February 14th starting at 7:00pm.
URL:https://thecrookedmouth.ca/event/two-laine-hiway/
END:VEVENT
BEGIN:VEVENT
DTSTART;TZID=America/Edmonton:20260220T200000
DTEND;TZID=America/Edmonton:20260220T235900
DTSTAMP:20260422T163726
CREATED:20260107T170346Z
LAST-MODIFIED:20260107T170346Z
UID:1191-1771617600-1771631940@thecrookedmouth.ca
SUMMARY:Bill Bonnah
DESCRIPTION:The Crooked Mouth Pub presents: Bill Bonnah on Friday\, February 20th starting at 8:00pm.
URL:https://thecrookedmouth.ca/event/bill-bonnah-5/
END:VEVENT
BEGIN:VEVENT
DTSTART;TZID=America/Edmonton:20260221T190000
DTEND;TZID=America/Edmonton:20260221T233000
DTSTAMP:20260422T163726
CREATED:20260107T170422Z
LAST-MODIFIED:20260107T170422Z
UID:1193-1771700400-1771716600@thecrookedmouth.ca
SUMMARY:Paul Marcotte
DESCRIPTION:The Crooked Mouth Pub presents: Paul Marcotte on Saturday\, February 21st starting at 7:00pm.
URL:https://thecrookedmouth.ca/event/paul-marcotte-2/
END:VEVENT
BEGIN:VEVENT
DTSTART;TZID=America/Edmonton:20260227T200000
DTEND;TZID=America/Edmonton:20260227T235900
DTSTAMP:20260422T163726
CREATED:20260107T170549Z
LAST-MODIFIED:20260107T170549Z
UID:1195-1772222400-1772236740@thecrookedmouth.ca
SUMMARY:Tim Becker
DESCRIPTION:The Crooked Mouth Pub presents: Tim Becker on Friday\, February 27th starting at 8:00pm.
URL:https://thecrookedmouth.ca/event/tim-becker-2/
END:VEVENT
BEGIN:VEVENT
DTSTART;TZID=America/Edmonton:20260228T190000
DTEND;TZID=America/Edmonton:20260228T230000
DTSTAMP:20260422T163726
CREATED:20260207T000320Z
LAST-MODIFIED:20260207T000320Z
UID:1213-1772305200-1772319600@thecrookedmouth.ca
SUMMARY:Mike Dominey
DESCRIPTION:The Crooked Mouth Pub presents: Mike Dominey on Saturday\, February 28th at 7:00PM
URL:https://thecrookedmouth.ca/event/mike-dominey-4/
END:VEVENT
BEGIN:VEVENT
DTSTART;TZID=America/Edmonton:20260306T200000
DTEND;TZID=America/Edmonton:20260306T230000
DTSTAMP:20260422T163726
CREATED:20260206T235650Z
LAST-MODIFIED:20260206T235845Z
UID:1201-1772827200-1772838000@thecrookedmouth.ca
SUMMARY:Andrew Scott
DESCRIPTION:The Crooked Mouth Pub presents: Andrew Scott on Friday\, March 6th at 8:00PM
URL:https://thecrookedmouth.ca/event/andrew-scott-2/
END:VEVENT
BEGIN:VEVENT
DTSTART;TZID=America/Edmonton:20260307T190000
DTEND;TZID=America/Edmonton:20260307T230000
DTSTAMP:20260422T163726
CREATED:20260206T235723Z
LAST-MODIFIED:20260206T235735Z
UID:1203-1772910000-1772924400@thecrookedmouth.ca
SUMMARY:Kim Gates
DESCRIPTION:The Crooked Mouth Pub presents: Kim Gates on Saturday\, March 7th at 7:00PM
URL:https://thecrookedmouth.ca/event/kim-gates-3/
END:VEVENT
BEGIN:VEVENT
DTSTART;TZID=America/Edmonton:20260313T200000
DTEND;TZID=America/Edmonton:20260313T230000
DTSTAMP:20260422T163726
CREATED:20260206T235959Z
LAST-MODIFIED:20260206T235959Z
UID:1207-1773432000-1773442800@thecrookedmouth.ca
SUMMARY:Rob Taylor
DESCRIPTION:The Crooked Mouth Pub presents: Rob Taylor on Friday\, March 13th at 8:00PM
URL:https://thecrookedmouth.ca/event/rob-taylor-6/
END:VEVENT
BEGIN:VEVENT
DTSTART;TZID=America/Edmonton:20260314T190000
DTEND;TZID=America/Edmonton:20260314T230000
DTSTAMP:20260422T163726
CREATED:20260207T000040Z
LAST-MODIFIED:20260207T000040Z
UID:1209-1773514800-1773529200@thecrookedmouth.ca
SUMMARY:Adam Holm
DESCRIPTION:The Crooked Mouth Pub presents: Adam Hold on Saturday\, March 14th at 7:00PM
URL:https://thecrookedmouth.ca/event/adam-holm-6/
END:VEVENT
BEGIN:VEVENT
DTSTART;VALUE=DATE:20260317
DTEND;VALUE=DATE:20260318
DTSTAMP:20260422T163726
CREATED:20260206T235918Z
LAST-MODIFIED:20260206T235918Z
UID:1205-1773705600-1773791999@thecrookedmouth.ca
SUMMARY:🍀 St Patricks Day 🍀
DESCRIPTION:
URL:https://thecrookedmouth.ca/event/%f0%9f%8d%80-st-patricks-day-%f0%9f%8d%80/
END:VEVENT
BEGIN:VEVENT
DTSTART;TZID=America/Edmonton:20260317T150000
DTEND;TZID=America/Edmonton:20260317T190000
DTSTAMP:20260422T163726
CREATED:20260207T000118Z
LAST-MODIFIED:20260207T000150Z
UID:1211-1773759600-1773774000@thecrookedmouth.ca
SUMMARY:Rob Taylor & Celtic Band
DESCRIPTION:The Crooked Mouth Pub presents: Rob Taylor & Celtic Band for St. Patricks Day
URL:https://thecrookedmouth.ca/event/rob-taylor-celtic-band/
END:VEVENT
END:VCALENDAR