BEGIN:VCALENDAR
VERSION:2.0
PRODID:-//The Crooked Mouth Pub - ECPv6.15.20//NONSGML v1.0//EN
CALSCALE:GREGORIAN
METHOD:PUBLISH
X-WR-CALNAME:The Crooked Mouth Pub
X-ORIGINAL-URL:https://thecrookedmouth.ca
X-WR-CALDESC:Events for The Crooked Mouth Pub
REFRESH-INTERVAL;VALUE=DURATION:PT1H
X-Robots-Tag:noindex
X-PUBLISHED-TTL:PT1H
BEGIN:VTIMEZONE
TZID:America/Edmonton
BEGIN:DAYLIGHT
TZOFFSETFROM:-0700
TZOFFSETTO:-0600
TZNAME:MDT
DTSTART:20240310T090000
END:DAYLIGHT
BEGIN:STANDARD
TZOFFSETFROM:-0600
TZOFFSETTO:-0700
TZNAME:MST
DTSTART:20241103T080000
END:STANDARD
BEGIN:DAYLIGHT
TZOFFSETFROM:-0700
TZOFFSETTO:-0600
TZNAME:MDT
DTSTART:20250309T090000
END:DAYLIGHT
BEGIN:STANDARD
TZOFFSETFROM:-0600
TZOFFSETTO:-0700
TZNAME:MST
DTSTART:20251102T080000
END:STANDARD
BEGIN:DAYLIGHT
TZOFFSETFROM:-0700
TZOFFSETTO:-0600
TZNAME:MDT
DTSTART:20260308T090000
END:DAYLIGHT
BEGIN:STANDARD
TZOFFSETFROM:-0600
TZOFFSETTO:-0700
TZNAME:MST
DTSTART:20261101T080000
END:STANDARD
END:VTIMEZONE
BEGIN:VEVENT
DTSTART;TZID=America/Edmonton:20251218T203000
DTEND;TZID=America/Edmonton:20251218T220000
DTSTAMP:20260421T160030
CREATED:20251111T165916Z
LAST-MODIFIED:20251111T165916Z
UID:1081-1766089800-1766095200@thecrookedmouth.ca
SUMMARY:Quiz Night
DESCRIPTION:The Crooked Mouth Pub proudly presents Sherwood Park’s Original Quiz Night every Thursday at 8:30 PM! \nPut your trivia skills to the test with 30 challenging questions from our Quiz Master of the week\, all competing for the pot and bragging rights! \nEntry is $2 per player. The winning team takes 50% of the pot\, while the other 50% is raffled off along with some awesome prizes. \nBe part of the tradition\, make memories\, and play to win every Thursday. Ready to take the challenge?
URL:https://thecrookedmouth.ca/event/quiz-night-9/
END:VEVENT
BEGIN:VEVENT
DTSTART;TZID=America/Edmonton:20251216T190000
DTEND;TZID=America/Edmonton:20251216T210000
DTSTAMP:20260421T160030
CREATED:20251111T164856Z
LAST-MODIFIED:20251111T164856Z
UID:1063-1765911600-1765918800@thecrookedmouth.ca
SUMMARY:Music Poker
DESCRIPTION:The Crooked Mouth Pub presents Music Poker every Tuesday at 7:00 PM\, with vibes brought to you by Advanced Entertainment! 🎶🃏 \nNo poker skills? No problem! Just listen for the songs\, mark your sheet\, and be the first to complete a full line. Each line is a poker hand\, and the highest hand snags a prize! \nZero entry fee. All ages welcome. Come for the tunes\, the laughs\, and the chance to win some rad prizes.
URL:https://thecrookedmouth.ca/event/music-poker-8/
END:VEVENT
BEGIN:VEVENT
DTSTART;TZID=America/Edmonton:20251211T203000
DTEND;TZID=America/Edmonton:20251211T220000
DTSTAMP:20260421T160030
CREATED:20251111T165627Z
LAST-MODIFIED:20251111T165627Z
UID:1075-1765485000-1765490400@thecrookedmouth.ca
SUMMARY:Quiz Night
DESCRIPTION:The Crooked Mouth Pub proudly presents Sherwood Park’s Original Quiz Night every Thursday at 8:30 PM! \nPut your trivia skills to the test with 30 challenging questions from our Quiz Master of the week\, all competing for the pot and bragging rights! \nEntry is $2 per player. The winning team takes 50% of the pot\, while the other 50% is raffled off along with some awesome prizes. \nBe part of the tradition\, make memories\, and play to win every Thursday. Ready to take the challenge?
URL:https://thecrookedmouth.ca/event/quiz-night-7/
END:VEVENT
BEGIN:VEVENT
DTSTART;TZID=America/Edmonton:20251209T190000
DTEND;TZID=America/Edmonton:20251209T210000
DTSTAMP:20260421T160030
CREATED:20251111T164836Z
LAST-MODIFIED:20251111T164836Z
UID:1061-1765306800-1765314000@thecrookedmouth.ca
SUMMARY:Music Poker
DESCRIPTION:The Crooked Mouth Pub presents Music Poker every Tuesday at 7:00 PM\, with vibes brought to you by Advanced Entertainment! 🎶🃏 \nNo poker skills? No problem! Just listen for the songs\, mark your sheet\, and be the first to complete a full line. Each line is a poker hand\, and the highest hand snags a prize! \nZero entry fee. All ages welcome. Come for the tunes\, the laughs\, and the chance to win some rad prizes.
URL:https://thecrookedmouth.ca/event/music-poker-7/
END:VEVENT
BEGIN:VEVENT
DTSTART;TZID=America/Edmonton:20251204T203000
DTEND;TZID=America/Edmonton:20251204T220000
DTSTAMP:20260421T160030
CREATED:20251111T165607Z
LAST-MODIFIED:20251111T165607Z
UID:1073-1764880200-1764885600@thecrookedmouth.ca
SUMMARY:Quiz Night
DESCRIPTION:The Crooked Mouth Pub proudly presents Sherwood Park’s Original Quiz Night every Thursday at 8:30 PM! \nPut your trivia skills to the test with 30 challenging questions from our Quiz Master of the week\, all competing for the pot and bragging rights! \nEntry is $2 per player. The winning team takes 50% of the pot\, while the other 50% is raffled off along with some awesome prizes. \nBe part of the tradition\, make memories\, and play to win every Thursday. Ready to take the challenge?
URL:https://thecrookedmouth.ca/event/quiz-night-6/
END:VEVENT
BEGIN:VEVENT
DTSTART;TZID=America/Edmonton:20251202T190000
DTEND;TZID=America/Edmonton:20251202T210000
DTSTAMP:20260421T160030
CREATED:20251111T164817Z
LAST-MODIFIED:20251111T164817Z
UID:1059-1764702000-1764709200@thecrookedmouth.ca
SUMMARY:Music Poker
DESCRIPTION:The Crooked Mouth Pub presents Music Poker every Tuesday at 7:00 PM\, with vibes brought to you by Advanced Entertainment! 🎶🃏 \nNo poker skills? No problem! Just listen for the songs\, mark your sheet\, and be the first to complete a full line. Each line is a poker hand\, and the highest hand snags a prize! \nZero entry fee. All ages welcome. Come for the tunes\, the laughs\, and the chance to win some rad prizes.
URL:https://thecrookedmouth.ca/event/music-poker-6/
END:VEVENT
BEGIN:VEVENT
DTSTART;TZID=America/Edmonton:20251129T190000
DTEND;TZID=America/Edmonton:20251129T230000
DTSTAMP:20260421T160030
CREATED:20251111T164157Z
LAST-MODIFIED:20251111T164157Z
UID:1051-1764442800-1764457200@thecrookedmouth.ca
SUMMARY:The River Poets
DESCRIPTION:The Crooked Mouth Pub presents: The River Poets on Saturday\, November 29th starting at 7:00pm.
URL:https://thecrookedmouth.ca/event/the-river-poets/
END:VEVENT
BEGIN:VEVENT
DTSTART;TZID=America/Edmonton:20251128T200000
DTEND;TZID=America/Edmonton:20251128T230000
DTSTAMP:20260421T160030
CREATED:20251111T164037Z
LAST-MODIFIED:20251111T164037Z
UID:1049-1764360000-1764370800@thecrookedmouth.ca
SUMMARY:Gary Thomas
DESCRIPTION:The Crooked Mouth Pub presents: Gary Thomas on Friday\, November 28th starting at 8:00pm.
URL:https://thecrookedmouth.ca/event/gary-thomas-4/
END:VEVENT
BEGIN:VEVENT
DTSTART;TZID=America/Edmonton:20251127T203000
DTEND;TZID=America/Edmonton:20251127T220000
DTSTAMP:20260421T160030
CREATED:20251111T165538Z
LAST-MODIFIED:20251111T165538Z
UID:1071-1764275400-1764280800@thecrookedmouth.ca
SUMMARY:Quiz Night
DESCRIPTION:The Crooked Mouth Pub proudly presents Sherwood Park’s Original Quiz Night every Thursday at 8:30 PM! \nPut your trivia skills to the test with 30 challenging questions from our Quiz Master of the week\, all competing for the pot and bragging rights! \nEntry is $2 per player. The winning team takes 50% of the pot\, while the other 50% is raffled off along with some awesome prizes. \nBe part of the tradition\, make memories\, and play to win every Thursday. Ready to take the challenge?
URL:https://thecrookedmouth.ca/event/quiz-night-5/
END:VEVENT
BEGIN:VEVENT
DTSTART;TZID=America/Edmonton:20251125T190000
DTEND;TZID=America/Edmonton:20251125T230000
DTSTAMP:20260421T160030
CREATED:20251111T164756Z
LAST-MODIFIED:20251111T164756Z
UID:1057-1764097200-1764111600@thecrookedmouth.ca
SUMMARY:Music Poker
DESCRIPTION:The Crooked Mouth Pub presents Music Poker every Tuesday at 7:00 PM\, with vibes brought to you by Advanced Entertainment! 🎶🃏 \nNo poker skills? No problem! Just listen for the songs\, mark your sheet\, and be the first to complete a full line. Each line is a poker hand\, and the highest hand snags a prize! \nZero entry fee. All ages welcome. Come for the tunes\, the laughs\, and the chance to win some rad prizes.
URL:https://thecrookedmouth.ca/event/music-poker-5/
END:VEVENT
BEGIN:VEVENT
DTSTART;TZID=America/Edmonton:20251122T190000
DTEND;TZID=America/Edmonton:20251122T230000
DTSTAMP:20260421T160030
CREATED:20251111T164000Z
LAST-MODIFIED:20251111T164000Z
UID:1047-1763838000-1763852400@thecrookedmouth.ca
SUMMARY:Rob Taylor
DESCRIPTION:The Crooked Mouth Pub presents: Rob Taylor on Saturday\, November 22nd starting at 7:00pm.
URL:https://thecrookedmouth.ca/event/rob-taylor-4/
END:VEVENT
BEGIN:VEVENT
DTSTART;TZID=America/Edmonton:20251121T200000
DTEND;TZID=America/Edmonton:20251121T230000
DTSTAMP:20260421T160030
CREATED:20251111T163919Z
LAST-MODIFIED:20251111T163919Z
UID:1045-1763755200-1763766000@thecrookedmouth.ca
SUMMARY:Bill Bonnah
DESCRIPTION:The Crooked Mouth Pub presents: Bill Bonnah on Friday\, November 21st starting at 8:00pm.
URL:https://thecrookedmouth.ca/event/bill-bonnah-4/
END:VEVENT
BEGIN:VEVENT
DTSTART;TZID=America/Edmonton:20251120T203000
DTEND;TZID=America/Edmonton:20251120T220000
DTSTAMP:20260421T160030
CREATED:20251111T165510Z
LAST-MODIFIED:20251111T165510Z
UID:1069-1763670600-1763676000@thecrookedmouth.ca
SUMMARY:Quiz Night
DESCRIPTION:The Crooked Mouth Pub proudly presents Sherwood Park’s Original Quiz Night every Thursday at 8:30 PM! \nPut your trivia skills to the test with 30 challenging questions from our Quiz Master of the week\, all competing for the pot and bragging rights! \nEntry is $2 per player. The winning team takes 50% of the pot\, while the other 50% is raffled off along with some awesome prizes. \nBe part of the tradition\, make memories\, and play to win every Thursday. Ready to take the challenge?
URL:https://thecrookedmouth.ca/event/quiz-night-4/
END:VEVENT
BEGIN:VEVENT
DTSTART;TZID=America/Edmonton:20251118T190000
DTEND;TZID=America/Edmonton:20251118T210000
DTSTAMP:20260421T160030
CREATED:20251111T164531Z
LAST-MODIFIED:20251111T164531Z
UID:1053-1763492400-1763499600@thecrookedmouth.ca
SUMMARY:Music Poker
DESCRIPTION:The Crooked Mouth Pub presents Music Poker every Tuesday at 7:00 PM\, with vibes brought to you by Advanced Entertainment! 🎶🃏 \nNo poker skills? No problem! Just listen for the songs\, mark your sheet\, and be the first to complete a full line. Each line is a poker hand\, and the highest hand snags a prize! \nZero entry fee. All ages welcome. Come for the tunes\, the laughs\, and the chance to win some rad prizes.
URL:https://thecrookedmouth.ca/event/music-poker-3/
END:VEVENT
BEGIN:VEVENT
DTSTART;TZID=America/Edmonton:20251115T190000
DTEND;TZID=America/Edmonton:20251115T230000
DTSTAMP:20260421T160030
CREATED:20251111T163825Z
LAST-MODIFIED:20251111T163825Z
UID:1043-1763233200-1763247600@thecrookedmouth.ca
SUMMARY:Ben Williams
DESCRIPTION:The Crooked Mouth Pub presents: Ben Williams on Saturday\, November 15th starting at 7:00pm.
URL:https://thecrookedmouth.ca/event/ben-williams-4/
END:VEVENT
BEGIN:VEVENT
DTSTART;TZID=America/Edmonton:20251114T200000
DTEND;TZID=America/Edmonton:20251114T230000
DTSTAMP:20260421T160030
CREATED:20251111T163740Z
LAST-MODIFIED:20251111T163740Z
UID:1041-1763150400-1763161200@thecrookedmouth.ca
SUMMARY:Adam Holm
DESCRIPTION:The Crooked Mouth Pub presents: Adam Holm on Friday\, November 14th starting at 8:00pm.
URL:https://thecrookedmouth.ca/event/adam-holm-4/
END:VEVENT
BEGIN:VEVENT
DTSTART;TZID=America/Edmonton:20251113T203000
DTEND;TZID=America/Edmonton:20251113T220000
DTSTAMP:20260421T160030
CREATED:20251111T165444Z
LAST-MODIFIED:20251111T165444Z
UID:1067-1763065800-1763071200@thecrookedmouth.ca
SUMMARY:Quiz Night
DESCRIPTION:The Crooked Mouth Pub proudly presents Sherwood Park’s Original Quiz Night every Thursday at 8:30 PM! \nPut your trivia skills to the test with 30 challenging questions from our Quiz Master of the week\, all competing for the pot and bragging rights! \nEntry is $2 per player. The winning team takes 50% of the pot\, while the other 50% is raffled off along with some awesome prizes. \nBe part of the tradition\, make memories\, and play to win every Thursday. Ready to take the challenge?
URL:https://thecrookedmouth.ca/event/quiz-night-3/
END:VEVENT
BEGIN:VEVENT
DTSTART;TZID=America/Edmonton:20251031T190000
DTEND;TZID=America/Edmonton:20251031T235900
DTSTAMP:20260421T160030
CREATED:20250924T151311Z
LAST-MODIFIED:20250926T191639Z
UID:1006-1761937200-1761955140@thecrookedmouth.ca
SUMMARY:Halloween Costume Party
DESCRIPTION:The Crooked Mouth Halloween Party\n\n\n\n\nThe ghouls\, ghosts\, and goblins are back—and this year\, we’re turning it up a notch! \nThe Crooked Mouth Pub presents our annual Halloween Costume Party\, happening Friday\, October 31st\, 2025.  \n  \nJoin us for a night of scary-good vibes\, live entertainment\, spooky cocktails\, and a costume contest that’s bigger (and creepier) than ever. \nGeneral Information \nDate: Friday\, October 31st\, 2025 \nStarts at: 7:00PM – LATE \nTickets: $10 Presale ON NOW | $15 At the door \n*Minors are welcome until 9pm. (Note: Minors can not participate in the costume contest or raffles.) \n\nGET TICKETS HERE
URL:https://thecrookedmouth.ca/event/halloween-costume-party/
END:VEVENT
BEGIN:VEVENT
DTSTART;TZID=America/Edmonton:20251018T190000
DTEND;TZID=America/Edmonton:20251018T230000
DTSTAMP:20260421T160030
CREATED:20250917T194332Z
LAST-MODIFIED:20250917T194332Z
UID:960-1760814000-1760828400@thecrookedmouth.ca
SUMMARY:Brendon & Alesha
DESCRIPTION:The Crooked Mouth Pub presents: Brendon & Alesha on Saturday\, October 18th starting at 7:00pm.
URL:https://thecrookedmouth.ca/event/brendon-alesha/
END:VEVENT
BEGIN:VEVENT
DTSTART;TZID=America/Edmonton:20251017T200000
DTEND;TZID=America/Edmonton:20251017T235900
DTSTAMP:20260421T160030
CREATED:20250917T194207Z
LAST-MODIFIED:20250917T194207Z
UID:958-1760731200-1760745540@thecrookedmouth.ca
SUMMARY:Ron Pederson
DESCRIPTION:The Crooked Mouth Pub presents: Ron Pederson on Friday\, October 17th starting at 8:00pm.
URL:https://thecrookedmouth.ca/event/ron-pederson-2/
END:VEVENT
BEGIN:VEVENT
DTSTART;TZID=America/Edmonton:20251011T190000
DTEND;TZID=America/Edmonton:20251011T230000
DTSTAMP:20260421T160030
CREATED:20250917T194125Z
LAST-MODIFIED:20250917T194125Z
UID:956-1760209200-1760223600@thecrookedmouth.ca
SUMMARY:Todd Reynolds
DESCRIPTION:The Crooked Mouth Pub presents: Todd Reynolds on Saturday\, October 11th starting at 7:00pm.
URL:https://thecrookedmouth.ca/event/todd-reynolds-3/
END:VEVENT
BEGIN:VEVENT
DTSTART;TZID=America/Edmonton:20251010T200000
DTEND;TZID=America/Edmonton:20251010T235900
DTSTAMP:20260421T160030
CREATED:20250917T194044Z
LAST-MODIFIED:20250917T194044Z
UID:954-1760126400-1760140740@thecrookedmouth.ca
SUMMARY:Brandon Gates
DESCRIPTION:The Crooked Mouth Pub presents: Brandon Gates on Friday\, October 10th starting at 8:00pm.
URL:https://thecrookedmouth.ca/event/brandon-gates/
END:VEVENT
BEGIN:VEVENT
DTSTART;TZID=America/Edmonton:20251004T190000
DTEND;TZID=America/Edmonton:20251004T235900
DTSTAMP:20260421T160030
CREATED:20250917T193957Z
LAST-MODIFIED:20250917T193957Z
UID:952-1759604400-1759622340@thecrookedmouth.ca
SUMMARY:Gary Thomas
DESCRIPTION:The Crooked Mouth Pub presents: Gary Thomas on Saturday\, October 4th starting at 7:00pm.
URL:https://thecrookedmouth.ca/event/gary-thomas-3/
END:VEVENT
BEGIN:VEVENT
DTSTART;TZID=America/Edmonton:20251003T200000
DTEND;TZID=America/Edmonton:20251003T230000
DTSTAMP:20260421T160030
CREATED:20250917T193918Z
LAST-MODIFIED:20250917T193918Z
UID:950-1759521600-1759532400@thecrookedmouth.ca
SUMMARY:Rob Taylor
DESCRIPTION:The Crooked Mouth Pub presents: Rob Taylor on Friday\, October 3rd starting at 8:00pm.
URL:https://thecrookedmouth.ca/event/rob-taylor-3/
END:VEVENT
BEGIN:VEVENT
DTSTART;TZID=America/Edmonton:20250927T190000
DTEND;TZID=America/Edmonton:20250927T230000
DTSTAMP:20260421T160030
CREATED:20250820T151727Z
LAST-MODIFIED:20250820T152009Z
UID:944-1758999600-1759014000@thecrookedmouth.ca
SUMMARY:Bill Bonnah
DESCRIPTION:The Crooked Mouth Pub presents: Bill Bonnah on Saturday\, September 27th starting at 7:00pm.
URL:https://thecrookedmouth.ca/event/bill-bonnah-3/
END:VEVENT
BEGIN:VEVENT
DTSTART;TZID=America/Edmonton:20250926T200000
DTEND;TZID=America/Edmonton:20250926T230000
DTSTAMP:20260421T160030
CREATED:20250820T151637Z
LAST-MODIFIED:20250820T151859Z
UID:942-1758916800-1758927600@thecrookedmouth.ca
SUMMARY:Ben Williams
DESCRIPTION:The Crooked Mouth Pub presents: Ben Williams on Friday\, September 26th starting at 8:00pm.
URL:https://thecrookedmouth.ca/event/ben-williams-3/
END:VEVENT
BEGIN:VEVENT
DTSTART;TZID=America/Edmonton:20250920T190000
DTEND;TZID=America/Edmonton:20250920T230000
DTSTAMP:20260421T160030
CREATED:20250820T151533Z
LAST-MODIFIED:20250820T152028Z
UID:940-1758394800-1758409200@thecrookedmouth.ca
SUMMARY:Adam Holm
DESCRIPTION:The Crooked Mouth Pub presents: Adam Holm on Saturday\, September 20th starting at 7:00pm.
URL:https://thecrookedmouth.ca/event/adam-holm-3/
END:VEVENT
BEGIN:VEVENT
DTSTART;TZID=America/Edmonton:20250919T200000
DTEND;TZID=America/Edmonton:20250919T230000
DTSTAMP:20260421T160030
CREATED:20250820T151312Z
LAST-MODIFIED:20250820T151915Z
UID:938-1758312000-1758322800@thecrookedmouth.ca
SUMMARY:Paul Marcotte
DESCRIPTION:The Crooked Mouth Pub presents: Paul Marcotte on Friday\, September 19th starting at 8:00pm.
URL:https://thecrookedmouth.ca/event/paul-marcotte/
END:VEVENT
BEGIN:VEVENT
DTSTART;TZID=America/Edmonton:20250913T190000
DTEND;TZID=America/Edmonton:20250913T230000
DTSTAMP:20260421T160030
CREATED:20250913T151224Z
LAST-MODIFIED:20250820T152146Z
UID:936-1757790000-1757804400@thecrookedmouth.ca
SUMMARY:Roman Kozlowski
DESCRIPTION:The Crooked Mouth Pub presents: Roman Kozlowski on Saturday\, September 13th starting at 7:00pm.
URL:https://thecrookedmouth.ca/event/roman-kozlowski-2/
END:VEVENT
BEGIN:VEVENT
DTSTART;TZID=America/Edmonton:20250912T200000
DTEND;TZID=America/Edmonton:20250912T230000
DTSTAMP:20260421T160030
CREATED:20250820T151136Z
LAST-MODIFIED:20250820T151939Z
UID:934-1757707200-1757718000@thecrookedmouth.ca
SUMMARY:Eric Martin
DESCRIPTION:The Crooked Mouth Pub presents: Eric Martin on Friday\, September 12th starting at 8:00pm.
URL:https://thecrookedmouth.ca/event/eric-martin-2/
END:VEVENT
END:VCALENDAR