BEGIN:VCALENDAR
VERSION:2.0
PRODID:-//The Crooked Mouth Pub - ECPv6.15.20//NONSGML v1.0//EN
CALSCALE:GREGORIAN
METHOD:PUBLISH
X-WR-CALNAME:The Crooked Mouth Pub
X-ORIGINAL-URL:https://thecrookedmouth.ca
X-WR-CALDESC:Events for The Crooked Mouth Pub
REFRESH-INTERVAL;VALUE=DURATION:PT1H
X-Robots-Tag:noindex
X-PUBLISHED-TTL:PT1H
BEGIN:VTIMEZONE
TZID:America/Edmonton
BEGIN:DAYLIGHT
TZOFFSETFROM:-0700
TZOFFSETTO:-0600
TZNAME:MDT
DTSTART:20240310T090000
END:DAYLIGHT
BEGIN:STANDARD
TZOFFSETFROM:-0600
TZOFFSETTO:-0700
TZNAME:MST
DTSTART:20241103T080000
END:STANDARD
BEGIN:DAYLIGHT
TZOFFSETFROM:-0700
TZOFFSETTO:-0600
TZNAME:MDT
DTSTART:20250309T090000
END:DAYLIGHT
BEGIN:STANDARD
TZOFFSETFROM:-0600
TZOFFSETTO:-0700
TZNAME:MST
DTSTART:20251102T080000
END:STANDARD
BEGIN:DAYLIGHT
TZOFFSETFROM:-0700
TZOFFSETTO:-0600
TZNAME:MDT
DTSTART:20260308T090000
END:DAYLIGHT
BEGIN:STANDARD
TZOFFSETFROM:-0600
TZOFFSETTO:-0700
TZNAME:MST
DTSTART:20261101T080000
END:STANDARD
END:VTIMEZONE
BEGIN:VEVENT
DTSTART;TZID=America/Edmonton:20250712T190000
DTEND;TZID=America/Edmonton:20250712T233000
DTSTAMP:20260421T202809
CREATED:20250619T225553Z
LAST-MODIFIED:20250619T225553Z
UID:803-1752346800-1752363000@thecrookedmouth.ca
SUMMARY:Rob Taylor
DESCRIPTION:The Crooked Mouth Pub presents: Rob Taylor on Saturday\, July 12th starting at 7:00pm.
URL:https://thecrookedmouth.ca/event/rob-taylor-2/
END:VEVENT
BEGIN:VEVENT
DTSTART;TZID=America/Edmonton:20250711T200000
DTEND;TZID=America/Edmonton:20250711T233000
DTSTAMP:20260421T202809
CREATED:20250619T225504Z
LAST-MODIFIED:20250619T225504Z
UID:801-1752264000-1752276600@thecrookedmouth.ca
SUMMARY:Eric Martin
DESCRIPTION:The Crooked Mouth Pub presents: Eric Martin on Friday\, July 11th starting at 8:00pm.
URL:https://thecrookedmouth.ca/event/eric-martin/
END:VEVENT
BEGIN:VEVENT
DTSTART;TZID=America/Edmonton:20250705T190000
DTEND;TZID=America/Edmonton:20250705T233000
DTSTAMP:20260421T202809
CREATED:20250619T225420Z
LAST-MODIFIED:20250619T225420Z
UID:799-1751742000-1751758200@thecrookedmouth.ca
SUMMARY:Roman Kozlowski
DESCRIPTION:The Crooked Mouth Pub presents: Roman Kozlowski on Saturday\, July 5th starting at 7:00pm.
URL:https://thecrookedmouth.ca/event/roman-kozlowski/
END:VEVENT
BEGIN:VEVENT
DTSTART;TZID=America/Edmonton:20250704T200000
DTEND;TZID=America/Edmonton:20250704T233000
DTSTAMP:20260421T202809
CREATED:20250619T225331Z
LAST-MODIFIED:20250619T225331Z
UID:797-1751659200-1751671800@thecrookedmouth.ca
SUMMARY:Tim Becker
DESCRIPTION:The Crooked Mouth Pub presents: Tim Backer on Friday\, July 4th starting at 8:00pm.
URL:https://thecrookedmouth.ca/event/tim-becker/
END:VEVENT
BEGIN:VEVENT
DTSTART;TZID=America/Edmonton:20250628T190000
DTEND;TZID=America/Edmonton:20250628T230000
DTSTAMP:20260421T202809
CREATED:20250513T030522Z
LAST-MODIFIED:20250612T174305Z
UID:539-1751137200-1751151600@thecrookedmouth.ca
SUMMARY:Corey Zachariah
DESCRIPTION:The Crooked Mouth Pub presents: Corey Zachariah on Saturday\, June 28th starting at 7:00pm.
URL:https://thecrookedmouth.ca/event/corey-zachariah/
CATEGORIES:Entertainment
END:VEVENT
BEGIN:VEVENT
DTSTART;TZID=America/Edmonton:20250627T200000
DTEND;TZID=America/Edmonton:20250628T000000
DTSTAMP:20260421T202809
CREATED:20250513T030426Z
LAST-MODIFIED:20250513T030426Z
UID:537-1751054400-1751068800@thecrookedmouth.ca
SUMMARY:Mike Dominey
DESCRIPTION:The Crooked Mouth Pub presents: Mike Dominey on Friday\, June 27th starting at 8:00pm.
URL:https://thecrookedmouth.ca/event/mike-dominey/
CATEGORIES:Entertainment
END:VEVENT
BEGIN:VEVENT
DTSTART;TZID=America/Edmonton:20250621T190000
DTEND;TZID=America/Edmonton:20250621T230000
DTSTAMP:20260421T202809
CREATED:20250513T030259Z
LAST-MODIFIED:20250513T030259Z
UID:535-1750532400-1750546800@thecrookedmouth.ca
SUMMARY:Brendon Bondy
DESCRIPTION:The Crooked Mouth Pub presents: Brendon Bondy on Saturday\, June 21st starting at 7:00pm.
URL:https://thecrookedmouth.ca/event/brendon-bondy/
CATEGORIES:Entertainment
END:VEVENT
BEGIN:VEVENT
DTSTART;TZID=America/Edmonton:20250620T200000
DTEND;TZID=America/Edmonton:20250621T000000
DTSTAMP:20260421T202809
CREATED:20250513T030210Z
LAST-MODIFIED:20250619T225219Z
UID:533-1750449600-1750464000@thecrookedmouth.ca
SUMMARY:Two Laine Highways
DESCRIPTION:The Crooked Mouth Pub presents: Trevor Mullen on Friday\, June 20th starting at 8:00pm.
URL:https://thecrookedmouth.ca/event/trevor-mullen/
CATEGORIES:Entertainment
END:VEVENT
BEGIN:VEVENT
DTSTART;TZID=America/Edmonton:20250614T190000
DTEND;TZID=America/Edmonton:20250614T230000
DTSTAMP:20260421T202809
CREATED:20250513T030057Z
LAST-MODIFIED:20250513T030057Z
UID:531-1749927600-1749942000@thecrookedmouth.ca
SUMMARY:Todd Reynolds
DESCRIPTION:The Crooked Mouth Pub presents: Todd Reynolds on Saturday\, May 14th starting at 7:00pm.
URL:https://thecrookedmouth.ca/event/todd-reynolds/
CATEGORIES:Entertainment
END:VEVENT
BEGIN:VEVENT
DTSTART;TZID=America/Edmonton:20250613T200000
DTEND;TZID=America/Edmonton:20250614T000000
DTSTAMP:20260421T202809
CREATED:20250513T025952Z
LAST-MODIFIED:20250513T025952Z
UID:529-1749844800-1749859200@thecrookedmouth.ca
SUMMARY:Ben Williams
DESCRIPTION:The Crooked Mouth Pub presents: Ben Williams on Saturday\, June 7th starting at 7:00pm.
URL:https://thecrookedmouth.ca/event/ben-williams/
CATEGORIES:Entertainment
END:VEVENT
BEGIN:VEVENT
DTSTART;TZID=America/Edmonton:20250607T190000
DTEND;TZID=America/Edmonton:20250607T230000
DTSTAMP:20260421T202809
CREATED:20250513T025853Z
LAST-MODIFIED:20250513T030604Z
UID:527-1749322800-1749337200@thecrookedmouth.ca
SUMMARY:Brendon Gates
DESCRIPTION:The Crooked Mouth Pub presents: Brendon Gates on Saturday\, June 7th starting at 7:00pm.
URL:https://thecrookedmouth.ca/event/brendon-gates/
CATEGORIES:Entertainment
END:VEVENT
BEGIN:VEVENT
DTSTART;TZID=America/Edmonton:20250606T200000
DTEND;TZID=America/Edmonton:20250607T000000
DTSTAMP:20260421T202809
CREATED:20250513T025749Z
LAST-MODIFIED:20250513T030610Z
UID:525-1749240000-1749254400@thecrookedmouth.ca
SUMMARY:Gary Thomas
DESCRIPTION:The Crooked Mouth Pub presents: Gary Thomas on Friday\, June 6th at 8:00pm.
URL:https://thecrookedmouth.ca/event/gary-thomas/
CATEGORIES:Entertainment
END:VEVENT
BEGIN:VEVENT
DTSTART;TZID=America/Edmonton:20250605T203000
DTEND;TZID=America/Edmonton:20250605T220000
DTSTAMP:20260421T202809
CREATED:20250529T162614Z
LAST-MODIFIED:20250529T162614Z
UID:558-1749155400-1749160800@thecrookedmouth.ca
SUMMARY:Quiz Night
DESCRIPTION:Thursday Night Quiz – It’s On!  \nJoin us for another epic night of trivia this Thursday! Our legendary quiz night brings the heat every week\, and it’s always a packed house — don’t miss out! \nGather your crew and put your brainpower to the test with 30 questions spanning pop culture\, music\, history\, and even a round of “Who’s in the photo?” \nPrizes are up for grabs — and one lucky team will take home the ultimate bragging rights (and the top prize)! \nJust $2 per player to enter!
URL:https://thecrookedmouth.ca/event/quiz-night-2/
END:VEVENT
BEGIN:VEVENT
DTSTART;TZID=America/Edmonton:20250603T080000
DTEND;TZID=America/Edmonton:20250603T170000
DTSTAMP:20260421T202809
CREATED:20250529T162456Z
LAST-MODIFIED:20250529T162456Z
UID:556-1748937600-1748970000@thecrookedmouth.ca
SUMMARY:Music Poker
DESCRIPTION:🎶 Music Poker – Every Tuesday at 7:00 PM 🎶Presented by Advanced Entertainment \nThink you know your music? Put your knowledge to the test with Music Poker – the ultimate mashup of music trivia and poker! We’ll play songs from every decade\, and your ability to name them helps build your winning hand. \n🎵 Win awesome prizes🎵 Enjoy great tunes🎵 Have a blast with friends \nJoin us every Tuesday for a night of music\, fun\, and friendly competition!
URL:https://thecrookedmouth.ca/event/music-poker-2/
CATEGORIES:Weekly Events
END:VEVENT
BEGIN:VEVENT
DTSTART;TZID=America/Edmonton:20250531T190000
DTEND;TZID=America/Edmonton:20250531T230000
DTSTAMP:20260421T202809
CREATED:20250513T025648Z
LAST-MODIFIED:20250513T030619Z
UID:523-1748718000-1748732400@thecrookedmouth.ca
SUMMARY:Rob Taylor
DESCRIPTION:The Crooked Mouth Pub presents: Rob Taylor on Saturday\, May 31st starting at 7:00pm.
URL:https://thecrookedmouth.ca/event/rob-taylor/
CATEGORIES:Entertainment
END:VEVENT
BEGIN:VEVENT
DTSTART;TZID=America/Edmonton:20250530T200000
DTEND;TZID=America/Edmonton:20250530T233000
DTSTAMP:20260421T202809
CREATED:20250529T162301Z
LAST-MODIFIED:20250529T162323Z
UID:554-1748635200-1748647800@thecrookedmouth.ca
SUMMARY:Bill Bonnah
DESCRIPTION:The Crooked Mouth Pub presents: Bill Bonnah on Friday\, May 30th at 8PM.
URL:https://thecrookedmouth.ca/event/bill-bonnah/
END:VEVENT
BEGIN:VEVENT
DTSTART;TZID=America/Edmonton:20250524T190000
DTEND;TZID=America/Edmonton:20250524T230000
DTSTAMP:20260421T202809
CREATED:20250601T010019Z
LAST-MODIFIED:20250513T025510Z
UID:519-1748113200-1748127600@thecrookedmouth.ca
SUMMARY:Adam Holm
DESCRIPTION:The Crooked Mouth Pub presents: Adam Holm from The Holm Studio on Saturday\, May 24th starting at 7:00pm. \nInstagram: @theholmstudio \nFacebook: The Holm Studio
URL:https://thecrookedmouth.ca/event/adam-holm/
CATEGORIES:Entertainment
END:VEVENT
BEGIN:VEVENT
DTSTART;TZID=America/Edmonton:20250523T200000
DTEND;TZID=America/Edmonton:20250524T000000
DTSTAMP:20260421T202809
CREATED:20250513T024756Z
LAST-MODIFIED:20250513T024756Z
UID:516-1748030400-1748044800@thecrookedmouth.ca
SUMMARY:Handsom Dads
DESCRIPTION:The Crooked Mouth Pub presents: Handsome Dads on Friday\, May 23rd starting at 8:00pm.
URL:https://thecrookedmouth.ca/event/handsom-dads/
LOCATION:Crooked Mouth Pub\, 221 Chippewa Road\, Sherwood Park\, Alberta\, Canada
CATEGORIES:Entertainment
END:VEVENT
BEGIN:VEVENT
DTSTART;TZID=America/Edmonton:20250515T203000
DTEND;TZID=America/Edmonton:20250515T213000
DTSTAMP:20260421T202809
CREATED:20250513T151644Z
LAST-MODIFIED:20250513T151644Z
UID:550-1747341000-1747344600@thecrookedmouth.ca
SUMMARY:Quiz Night
DESCRIPTION:Thursday Night Quiz – It’s On!  \nJoin us for another epic night of trivia this Thursday! Our legendary quiz night brings the heat every week\, and it’s always a packed house — don’t miss out! \nGather your crew and put your brainpower to the test with 30 questions spanning pop culture\, music\, history\, and even a round of “Who’s in the photo?” \nPrizes are up for grabs — and one lucky team will take home the ultimate bragging rights (and the top prize)! \nJust $2 per player to enter!
URL:https://thecrookedmouth.ca/event/quiz-night/
END:VEVENT
BEGIN:VEVENT
DTSTART;TZID=America/Edmonton:20250513T190000
DTEND;TZID=America/Edmonton:20250513T210000
DTSTAMP:20260421T202809
CREATED:20250513T031016Z
LAST-MODIFIED:20250513T031137Z
UID:542-1747162800-1747170000@thecrookedmouth.ca
SUMMARY:Music Poker
DESCRIPTION:🎶 Music Poker – Every Tuesday at 7:00 PM 🎶Presented by Advanced Entertainment \nThink you know your music? Put your knowledge to the test with Music Poker – the ultimate mashup of music trivia and poker! We’ll play songs from every decade\, and your ability to name them helps build your winning hand. \n🎵 Win awesome prizes🎵 Enjoy great tunes🎵 Have a blast with friends \nJoin us every Tuesday for a night of music\, fun\, and friendly competition!
URL:https://thecrookedmouth.ca/event/music-poker/
CATEGORIES:Weekly Events
END:VEVENT
BEGIN:VEVENT
DTSTART;TZID=America/Edmonton:20250321T200000
DTEND;TZID=America/Edmonton:20250321T235900
DTSTAMP:20260421T202809
CREATED:20250317T182944Z
LAST-MODIFIED:20250317T183117Z
UID:485-1742587200-1742601540@thecrookedmouth.ca
SUMMARY:Paul Marcatte Live!
DESCRIPTION:Live Music every weekend!
URL:https://thecrookedmouth.ca/event/paul-marcatte-live/
LOCATION:Crooked Mouth Pub\, 221 Chippewa Road\, Sherwood Park\, Alberta\, Canada
CATEGORIES:Entertainment
END:VEVENT
END:VCALENDAR